BEGIN:VCALENDAR
VERSION:2.0
PRODID:-//wp-events-plugin.com//7.0.5//EN
TZID:America/Denver
X-WR-TIMEZONE:America/Denver
BEGIN:VEVENT
UID:1@downtowntimnath.com
DTSTART;TZID=America/Denver;VALUE=DATE:20250210
DTEND;TZID=America/Denver;VALUE=DATE:20250315
DTSTAMP:20250228T053647Z
URL:https://downtowntimnath.com/event/2025-vendor-applications-open/
SUMMARY:2025 Vendor Applications Open
DESCRIPTION:Vendor applications are OPEN for the following 2025 summer mark
 et season:\n\n 	Timnath Farmers Market\n 	The District Market\n 	Bloem Art
 isan Market\n\nVisit the market pages for full details &amp\; application.
ATTACH;FMTTYPE=image/jpeg:https://downtowntimnath.com/wp-content/uploads/2
 025/02/387103315_803453005113657_2904526025947355211_n-Nicole-Uthmann.jpg
CATEGORIES:Activities &amp; Services,Food &amp; Drink,Markets &amp;
 Festivals,Shopping
LOCATION:http://downtowntimnath.com/2ndsundays
END:VEVENT
BEGIN:VTIMEZONE
TZID:America/Denver
X-LIC-LOCATION:America/Denver
BEGIN:STANDARD
DTSTART:20241103T010000
TZOFFSETFROM:-0600
TZOFFSETTO:-0700
TZNAME:MST
END:STANDARD
BEGIN:DAYLIGHT
DTSTART:20250309T030000
TZOFFSETFROM:-0700
TZOFFSETTO:-0600
TZNAME:MDT
END:DAYLIGHT
END:VTIMEZONE
END:VCALENDAR