BEGIN:VCALENDAR
VERSION:2.0
PRODID:-//wp-events-plugin.com//7.0.5//EN
TZID:America/Denver
X-WR-TIMEZONE:America/Denver
BEGIN:VEVENT
UID:92@downtowntimnath.com
DTSTART;TZID=America/Denver:20250511T100000
DTEND;TZID=America/Denver:20250511T140000
DTSTAMP:20250430T205512Z
URL:https://downtowntimnath.com/event/2nd-sundays-on-main-2025-05-11/
SUMMARY:2nd Sundays on Main
DESCRIPTION:\n\nVisit your local farmers market\, shop the fashion district
 \, support your downtown businesses\, and spend time with your community e
 very 2nd Sunday on Main!\n\nJoin us every 2nd Sunday from May through Octo
 ber for a vibrant monthly community event series featuring local vendors\,
  artisans\, small businesses\, and family-friendly activities.\n\n\n\nFind
  Events &amp\; Activity Details Here!\n\n\n\n&nbsp\;
ATTACH;FMTTYPE=image/jpeg:https://downtowntimnath.com/wp-content/uploads/2
 025/02/Submark-MAIN.png
CATEGORIES:Activities &amp; Services,Arts &amp; Culture,Beauty &amp;
 Wellness,Food &amp; Drink,Live Entertainment,Markets &amp;
 Festivals,Shopping
LOCATION:Downtown Timnath\, Main Street\, Timnath\, CO\, 80547\, United Sta
 tes
X-APPLE-STRUCTURED-LOCATION;VALUE=URI;X-ADDRESS=Main Street\, Timnath\, CO\
 , 80547\, United States;X-APPLE-RADIUS=100;X-TITLE=Downtown Timnath:geo:0,
 0
END:VEVENT
BEGIN:VTIMEZONE
TZID:America/Denver
X-LIC-LOCATION:America/Denver
BEGIN:DAYLIGHT
DTSTART:20250309T030000
TZOFFSETFROM:-0700
TZOFFSETTO:-0600
TZNAME:MDT
END:DAYLIGHT
END:VTIMEZONE
END:VCALENDAR