BEGIN:VCALENDAR
VERSION:2.0
PRODID:-//wp-events-plugin.com//7.0.5//EN
TZID:America/Denver
X-WR-TIMEZONE:America/Denver
BEGIN:VEVENT
UID:73@downtowntimnath.com
DTSTART;TZID=America/Denver:20250511T100000
DTEND;TZID=America/Denver:20250511T140000
DTSTAMP:20250228T052829Z
URL:https://downtowntimnath.com/event/bloem-artisan-market-2025-05-11/
SUMMARY:Bloem Artisan Market
DESCRIPTION:\n\nThe Bloem Artisan Market is every 2ND SUNDAY from May - Oct
  • Immerse yourself in the creativity of local artisans and gallery-qua
 lity fine art\, showcasing talent from near and far.\nBringing together th
 e very best of Northern Colorado’s makers &amp\; artists for the 2025 
 summer season!\n\n\nProudly hosted by Bloem Gallery &amp\; Get More Real E
 state\n             \n\n\n\n\nSee Market &amp\; Vendor Info\n\n\n\n
 \n\n\n
ATTACH;FMTTYPE=image/jpeg:https://downtowntimnath.com/wp-content/uploads/2
 025/02/IMG_3905-Emily-Moore-scaled.jpeg
CATEGORIES:Activities &amp; Services,Arts &amp; Culture,Live
 Entertainment,Markets &amp; Festivals,Shopping
LOCATION:Bloem Gallery\, 4109 Main Street\, Timnath\, CO\, 80547\, United S
 tates
X-APPLE-STRUCTURED-LOCATION;VALUE=URI;X-ADDRESS=4109 Main Street\, Timnath\
 , CO\, 80547\, United States;X-APPLE-RADIUS=100;X-TITLE=Bloem Gallery:geo:
 0,0
END:VEVENT
BEGIN:VTIMEZONE
TZID:America/Denver
X-LIC-LOCATION:America/Denver
BEGIN:DAYLIGHT
DTSTART:20250309T030000
TZOFFSETFROM:-0700
TZOFFSETTO:-0600
TZNAME:MDT
END:DAYLIGHT
END:VTIMEZONE
END:VCALENDAR