BEGIN:VCALENDAR
VERSION:2.0
PRODID:-//wp-events-plugin.com//7.0.5//EN
TZID:America/Denver
X-WR-TIMEZONE:America/Denver
BEGIN:VEVENT
UID:69@downtowntimnath.com
DTSTART;TZID=America/Denver:20250810T100000
DTEND;TZID=America/Denver:20250810T140000
DTSTAMP:20250228T052709Z
URL:https://downtowntimnath.com/event/the-district-market-2025-08-10/
SUMMARY:The District Market
DESCRIPTION:\n\nThe District Market is every 2ND SUNDAY from May - Oct •
   Discover unique home decor\, beauty products\, fashion finds\, and well
 ness services all in one vibrant spot!\n\nBringing together the very best 
 of Northern Colorado’s home\, beauty &amp\; fashion goods this summer!\n
 Proudly hosted by JJ District\n\n\n\n\n\nSee Market &amp\; Vendor Info\n\n
 \n\n\n\n
ATTACH;FMTTYPE=image/jpeg:https://downtowntimnath.com/wp-content/uploads/2
 025/02/Reverie-Collective-5-2023-06-scaled.jpg
CATEGORIES:Activities &amp; Services,Arts &amp; Culture,Beauty &amp;
 Wellness,Live Entertainment,Markets &amp; Festivals,Shopping
LOCATION:JJ District\, 4117 Main Street\, Timnath\, CO\, 80547\, United Sta
 tes
X-APPLE-STRUCTURED-LOCATION;VALUE=URI;X-ADDRESS=4117 Main Street\, Timnath\
 , CO\, 80547\, United States;X-APPLE-RADIUS=100;X-TITLE=JJ District:geo:0,
 0
END:VEVENT
BEGIN:VTIMEZONE
TZID:America/Denver
X-LIC-LOCATION:America/Denver
BEGIN:DAYLIGHT
DTSTART:20250309T030000
TZOFFSETFROM:-0700
TZOFFSETTO:-0600
TZNAME:MDT
END:DAYLIGHT
END:VTIMEZONE
END:VCALENDAR