BEGIN:VCALENDAR
VERSION:2.0
PRODID:-//wp-events-plugin.com//7.0.5//EN
TZID:America/Denver
X-WR-TIMEZONE:America/Denver
BEGIN:VEVENT
UID:99@downtowntimnath.com
DTSTART;TZID=America/Denver:20250511T080000
DTEND;TZID=America/Denver:20250511T190000
DTSTAMP:20250430T210613Z
URL:https://downtowntimnath.com/event/the-hidden-stem-open-all-day-on-2nd-
 sundays-2025-05-11/
SUMMARY:The Hidden Stem - Open All Day on 2nd Sundays
DESCRIPTION:Join The Hidden Stem during 2nd Sundays on Main for a vibrant\,
  plant-filled experience just minutes from the market! This local gem offe
 rs a stunning variety of indoor houseplants\, outdoor garden blooms\, and 
 beautiful hanging baskets (with fresh selections arriving weekly!).\n\nVis
 itors can enjoy free houseplant pot-ups with the purchase of a pot and pla
 nt\, explore unique garden décor and gifts\, and even say hello to the re
 sident guinea pigs\, fish\, and cats. Whether you're looking to build a su
 mmer planter\, grab veggie starts\, or simply stroll through a greenhouse 
 bursting with color\, The Hidden Stem is a must-visit destination for plan
 t lovers and families alike.\n\n\n\nVisit The Hidden Stem on Facebook &amp
 \; Instagram for more information!\n\n\n\n&nbsp\;
ATTACH;FMTTYPE=image/jpeg:https://downtowntimnath.com/wp-content/uploads/2
 025/02/Submark-MAIN.png
CATEGORIES:Shopping
LOCATION:The Hidden Stem\, 4007 Main Street\, Timnath\, Colorado\, 80547\, 
 United States
X-APPLE-STRUCTURED-LOCATION;VALUE=URI;X-ADDRESS=4007 Main Street\, Timnath\
 , Colorado\, 80547\, United States;X-APPLE-RADIUS=100;X-TITLE=The Hidden S
 tem:geo:0,0
END:VEVENT
BEGIN:VTIMEZONE
TZID:America/Denver
X-LIC-LOCATION:America/Denver
BEGIN:DAYLIGHT
DTSTART:20250309T030000
TZOFFSETFROM:-0700
TZOFFSETTO:-0600
TZNAME:MDT
END:DAYLIGHT
END:VTIMEZONE
END:VCALENDAR