BEGIN:VCALENDAR
VERSION:2.0
PRODID:-//wp-events-plugin.com//7.0.5//EN
TZID:America/Denver
X-WR-TIMEZONE:America/Denver
BEGIN:VEVENT
UID:87@downtowntimnath.com
DTSTART;TZID=America/Denver:20250622T100000
DTEND;TZID=America/Denver:20250622T140000
DTSTAMP:20250429T231915Z
URL:https://downtowntimnath.com/event/timnath-farmers-market-4th-sunday-20
 25-06-22/
SUMMARY:Timnath Farmers Market - 4th Sunday
DESCRIPTION:Explore fresh\, local produce\, artisanal foods\, and handmade 
 goods straight from the heart of the community.
ATTACH;FMTTYPE=image/jpeg:https://downtowntimnath.com/wp-content/uploads/2
 025/02/Market-Day-2023-06-scaled.jpg
CATEGORIES:Activities &amp; Services,Arts &amp; Culture,Food &amp;
 Drink,Live Entertainment,Markets &amp; Festivals,Shopping
LOCATION:CF&G Public Market\, 4138 Main Street\, Unit A\, Timnath\, CO\, 80
 547\, United States
X-APPLE-STRUCTURED-LOCATION;VALUE=URI;X-ADDRESS=4138 Main Street\, Unit A\,
  Timnath\, CO\, 80547\, United States;X-APPLE-RADIUS=100;X-TITLE=CF&G Publ
 ic Market:geo:0,0
END:VEVENT
BEGIN:VTIMEZONE
TZID:America/Denver
X-LIC-LOCATION:America/Denver
BEGIN:DAYLIGHT
DTSTART:20250309T030000
TZOFFSETFROM:-0700
TZOFFSETTO:-0600
TZNAME:MDT
END:DAYLIGHT
END:VTIMEZONE
END:VCALENDAR